BEGIN:VCALENDAR
VERSION:2.0
PRODID:-//Federación de Ajedrez de la Región de Murcia - ECPv6.15.20//NONSGML v1.0//EN
CALSCALE:GREGORIAN
METHOD:PUBLISH
X-ORIGINAL-URL:https://farm.es
X-WR-CALDESC:Eventos para Federación de Ajedrez de la Región de Murcia
REFRESH-INTERVAL;VALUE=DURATION:PT1H
X-Robots-Tag:noindex
X-PUBLISHED-TTL:PT1H
BEGIN:VTIMEZONE
TZID:Europe/Madrid
BEGIN:DAYLIGHT
TZOFFSETFROM:+0100
TZOFFSETTO:+0200
TZNAME:CEST
DTSTART:20250330T010000
END:DAYLIGHT
BEGIN:STANDARD
TZOFFSETFROM:+0200
TZOFFSETTO:+0100
TZNAME:CET
DTSTART:20251026T010000
END:STANDARD
BEGIN:DAYLIGHT
TZOFFSETFROM:+0100
TZOFFSETTO:+0200
TZNAME:CEST
DTSTART:20260329T010000
END:DAYLIGHT
BEGIN:STANDARD
TZOFFSETFROM:+0200
TZOFFSETTO:+0100
TZNAME:CET
DTSTART:20261025T010000
END:STANDARD
BEGIN:DAYLIGHT
TZOFFSETFROM:+0100
TZOFFSETTO:+0200
TZNAME:CEST
DTSTART:20270328T010000
END:DAYLIGHT
BEGIN:STANDARD
TZOFFSETFROM:+0200
TZOFFSETTO:+0100
TZNAME:CET
DTSTART:20271031T010000
END:STANDARD
END:VTIMEZONE
BEGIN:VEVENT
DTSTART;TZID=Europe/Madrid:20260509T090000
DTEND;TZID=Europe/Madrid:20260517T140000
DTSTAMP:20260422T125940
CREATED:20260421T195421Z
LAST-MODIFIED:20260421T195421Z
UID:4630-1778317200-1779026400@farm.es
SUMMARY:V Campeonato Regional Individual por Tramos de Elo 2026
DESCRIPTION:1 ORGANIZACIÓN\nOrganiza la Federación de Ajedrez de la Región de Murcia y el Club de Ajedrez Mar Menor\, con la colaboración de la Dirección General de Deportes de la Comunidad Autónoma de la Región de Murcia.\n2 VALIDEZ\nEl Campeonato es válido para la obtención de Elo FIDE.\nEl primer clasificado de cada categoría será proclamado Campeón Regional de Individual por tramos de Elo\, y tendrá derecho a participar en el Campeonato de España de Aficionados en representación de la FARM en la categoría correspondiente y en las condiciones que en su día determine la Federación Española de Ajedrez.\n3 PARTICIPANTES\nPueden participar en este campeonato todos los jugadores con Licencia Federativa FARM en vigor para el año 2026 y Elo FIDE inferior a 2300.\nPara obtener la Licencia Federativa consultar la web: www.farm.es/licencias.\n4 CATEGORÍAS\nSe establecen 3 categorías para la inscripción de los jugadores:\na) Elo FIDE de 2000 hasta 2299\nb) Elo FIDE de 1700 hasta 1999\nc) Elo FIDE hasta 1699 \nBases: Bases_Indiv_por_tramos_Elo_2026.pdf \nInscripción: detalles del campeonato y formulario de inscripción
URL:https://farm.es/evento/v-campeonato-regional-individual-por-tramos-de-elo-2026/
LOCATION:Grupo Caliche\, calle david martinez albaladejo 2\, San Javier\, Murcia\, 30730\, Spain
CATEGORIES:Campeonato
ATTACH;FMTTYPE=image/jpeg:https://farm.es/wp-content/uploads/2026/04/CartelTramosFed.jpg
END:VEVENT
BEGIN:VEVENT
DTSTART;TZID=Europe/Madrid:20260607T090000
DTEND;TZID=Europe/Madrid:20260607T140000
DTSTAMP:20260422T125940
CREATED:20260416T103310Z
LAST-MODIFIED:20260416T103310Z
UID:4595-1780822800-1780840800@farm.es
SUMMARY:8º TORNEO DE PRIMAVERA DE AJEDREZ 2026 YECLA
DESCRIPTION:el 7 de junio el Club de Ajedrez Municipal Yeclano nos propone un torneo de rápidas al aire libre en Yecla. \nos dejamos las bases en el siguiente enlace \nbases VIIITORNEO PRIMAVERA 2026
URL:https://farm.es/evento/8o-torneo-de-primavera-de-ajedrez-2026-yecla/
LOCATION:Frente Edificio Bioclimático\, C/ José Sola S/N Frente Edificio Bioclimático\, Yecla\, Murcia\, 30510\, Spain
CATEGORIES:Torneo
ATTACH;FMTTYPE=image/jpeg:https://farm.es/wp-content/uploads/2026/04/CARTEL-.jpg
ORGANIZER;CN="CAMY":MAILTO:ajedrezyecla@gmail.com
END:VEVENT
END:VCALENDAR