BEGIN:VCALENDAR
VERSION:2.0
PRODID:-//Federación de Ajedrez de la Región de Murcia - ECPv6.15.20//NONSGML v1.0//EN
CALSCALE:GREGORIAN
METHOD:PUBLISH
X-ORIGINAL-URL:https://farm.es
X-WR-CALDESC:Eventos para Federación de Ajedrez de la Región de Murcia
REFRESH-INTERVAL;VALUE=DURATION:PT1H
X-Robots-Tag:noindex
X-PUBLISHED-TTL:PT1H
BEGIN:VTIMEZONE
TZID:Europe/Madrid
BEGIN:DAYLIGHT
TZOFFSETFROM:+0100
TZOFFSETTO:+0200
TZNAME:CEST
DTSTART:20240331T010000
END:DAYLIGHT
BEGIN:STANDARD
TZOFFSETFROM:+0200
TZOFFSETTO:+0100
TZNAME:CET
DTSTART:20241027T010000
END:STANDARD
BEGIN:DAYLIGHT
TZOFFSETFROM:+0100
TZOFFSETTO:+0200
TZNAME:CEST
DTSTART:20250330T010000
END:DAYLIGHT
BEGIN:STANDARD
TZOFFSETFROM:+0200
TZOFFSETTO:+0100
TZNAME:CET
DTSTART:20251026T010000
END:STANDARD
BEGIN:DAYLIGHT
TZOFFSETFROM:+0100
TZOFFSETTO:+0200
TZNAME:CEST
DTSTART:20260329T010000
END:DAYLIGHT
BEGIN:STANDARD
TZOFFSETFROM:+0200
TZOFFSETTO:+0100
TZNAME:CET
DTSTART:20261025T010000
END:STANDARD
END:VTIMEZONE
BEGIN:VEVENT
DTSTART;TZID=Europe/Madrid:20250524T170000
DTEND;TZID=Europe/Madrid:20250525T140000
DTSTAMP:20260423T154648
CREATED:20250504T185711Z
LAST-MODIFIED:20250617T082959Z
UID:2161-1748106000-1748181600@farm.es
SUMMARY:II FESTIVAL DE AJEDREZ RAPIDO FORTUNA
DESCRIPTION:El I Festival de Ajedrez rápido de Fortuna se disputará en formato de dos torneos de rápidas\, ambos torneos se celebrarán en las magníficas instalaciones del Camping La Fuente en Baños de Fortuna\, donde los jugadores y acompañantes pueden pasar un magnifico fin de semana. \nEl II Torneo de parejas se disputará el sábado 24 de Mayo durante la tarde\, y el II Torneo de ajedrez blitz se disputará durante la mañana del domingo 25 de mayo. \nBASES
URL:https://farm.es/evento/ii-festival-de-ajedrez-rapido-fortuna/
LOCATION:Camping  La Fuente\, Calle de la Fuente\, Baños de Fortuna\, Murcia\, 30626\, Spain
CATEGORIES:Torneo
ATTACH;FMTTYPE=image/jpeg:https://farm.es/wp-content/uploads/2025/04/WhatsApp-Image-2025-04-21-at-20.24.44.jpeg
END:VEVENT
END:VCALENDAR