BEGIN:VCALENDAR
VERSION:2.0
PRODID:-//Federación de Ajedrez de la Región de Murcia - ECPv6.15.20//NONSGML v1.0//EN
CALSCALE:GREGORIAN
METHOD:PUBLISH
X-ORIGINAL-URL:https://farm.es
X-WR-CALDESC:Eventos para Federación de Ajedrez de la Región de Murcia
REFRESH-INTERVAL;VALUE=DURATION:PT1H
X-Robots-Tag:noindex
X-PUBLISHED-TTL:PT1H
BEGIN:VTIMEZONE
TZID:Europe/Madrid
BEGIN:DAYLIGHT
TZOFFSETFROM:+0100
TZOFFSETTO:+0200
TZNAME:CEST
DTSTART:20240331T010000
END:DAYLIGHT
BEGIN:STANDARD
TZOFFSETFROM:+0200
TZOFFSETTO:+0100
TZNAME:CET
DTSTART:20241027T010000
END:STANDARD
BEGIN:DAYLIGHT
TZOFFSETFROM:+0100
TZOFFSETTO:+0200
TZNAME:CEST
DTSTART:20250330T010000
END:DAYLIGHT
BEGIN:STANDARD
TZOFFSETFROM:+0200
TZOFFSETTO:+0100
TZNAME:CET
DTSTART:20251026T010000
END:STANDARD
BEGIN:DAYLIGHT
TZOFFSETFROM:+0100
TZOFFSETTO:+0200
TZNAME:CEST
DTSTART:20260329T010000
END:DAYLIGHT
BEGIN:STANDARD
TZOFFSETFROM:+0200
TZOFFSETTO:+0100
TZNAME:CET
DTSTART:20261025T010000
END:STANDARD
END:VTIMEZONE
BEGIN:VEVENT
DTSTART;TZID=Europe/Madrid:20250614T090000
DTEND;TZID=Europe/Madrid:20250614T133000
DTSTAMP:20260423T130825
CREATED:20250526T171833Z
LAST-MODIFIED:20250629T084134Z
UID:2458-1749891600-1749907800@farm.es
SUMMARY:II ENAE CHESS OPEN
DESCRIPTION:¡Torneo para todos los públicos! \nEl próximo sábado 14 de junio de 2025\, tienes una cita con el ajedrez en el Edificio ENAE nº 13\, en el Campus Universitario de Espinardo. La jornada se desarrollará desde las 9:00 hasta las 13:30 horas\, incluyendo una pausa para el desayuno. \nLa participación está abierta a jugadores de cualquier edad y nivel\, tanto si están federados como si no. \nEl evento se dividirá en dos competiciones paralelas: \nTorneo general\, sin límite de edad.\nTorneo infantil\, destinado a menores de 14 años (nacidos a partir de 2010). \nSe jugará por sistema suizo\, con 7 rondas a ritmo de 10 minutos + 2 segundos por jugada en el torneo general\, y 6 o 7 rondas en el torneo infantil (dependiendo del número de inscritos). La gestión de emparejamientos se realizará mediante el programa Swiss-Manager. \nBASES DEL TORNEO
URL:https://farm.es/evento/ii-enae-chess-open/
LOCATION:Edificio Enae Nº 13. Campus Universitario de Espinardo\, Edificio Enae Nº 13\, Campus Universitario de Espinardo\, Murcia\, Spain
CATEGORIES:Torneo
ATTACH;FMTTYPE=image/jpeg:https://farm.es/wp-content/uploads/2025/06/Cartel_ENAE_Chess_Open_Collection_11-scaled-1.jpg
END:VEVENT
BEGIN:VEVENT
DTSTART;TZID=Europe/Madrid:20250628T083000
DTEND;TZID=Europe/Madrid:20250730T133000
DTSTAMP:20260423T130825
CREATED:20250526T075603Z
LAST-MODIFIED:20250629T083911Z
UID:2417-1751099400-1753882200@farm.es
SUMMARY:TORNEO DE AJEDREZ FIN DE CURSO JUMILLA
DESCRIPTION:BASES DEL TORNEO
URL:https://farm.es/evento/torneo-de-ajedrez-fin-de-curso-jumilla/
LOCATION:Bodegas BSI\, Jumilla\, Spain
CATEGORIES:Torneo
ATTACH;FMTTYPE=image/jpeg:https://farm.es/wp-content/uploads/2025/05/findecurso2025-cartel-web.jpg
END:VEVENT
END:VCALENDAR