BEGIN:VCALENDAR
VERSION:2.0
PRODID:-//Federación de Ajedrez de la Región de Murcia - ECPv6.15.20//NONSGML v1.0//EN
CALSCALE:GREGORIAN
METHOD:PUBLISH
X-WR-CALNAME:Federación de Ajedrez de la Región de Murcia
X-ORIGINAL-URL:https://farm.es
X-WR-CALDESC:Eventos para Federación de Ajedrez de la Región de Murcia
REFRESH-INTERVAL;VALUE=DURATION:PT1H
X-Robots-Tag:noindex
X-PUBLISHED-TTL:PT1H
BEGIN:VTIMEZONE
TZID:Europe/Madrid
BEGIN:DAYLIGHT
TZOFFSETFROM:+0100
TZOFFSETTO:+0200
TZNAME:CEST
DTSTART:20250330T010000
END:DAYLIGHT
BEGIN:STANDARD
TZOFFSETFROM:+0200
TZOFFSETTO:+0100
TZNAME:CET
DTSTART:20251026T010000
END:STANDARD
BEGIN:DAYLIGHT
TZOFFSETFROM:+0100
TZOFFSETTO:+0200
TZNAME:CEST
DTSTART:20260329T010000
END:DAYLIGHT
BEGIN:STANDARD
TZOFFSETFROM:+0200
TZOFFSETTO:+0100
TZNAME:CET
DTSTART:20261025T010000
END:STANDARD
BEGIN:DAYLIGHT
TZOFFSETFROM:+0100
TZOFFSETTO:+0200
TZNAME:CEST
DTSTART:20270328T010000
END:DAYLIGHT
BEGIN:STANDARD
TZOFFSETFROM:+0200
TZOFFSETTO:+0100
TZNAME:CET
DTSTART:20271031T010000
END:STANDARD
END:VTIMEZONE
BEGIN:VEVENT
DTSTART;TZID=Europe/Madrid:20260208T093000
DTEND;TZID=Europe/Madrid:20260208T140000
DTSTAMP:20260419T154715
CREATED:20260115T112356Z
LAST-MODIFIED:20260125T182420Z
UID:3724-1770543000-1770559200@farm.es
SUMMARY:De Negra a Blanca: Jaque por la Inclusión
DESCRIPTION:El domingo 8 de febrero\, en Blanca\, el Club de Zarandona organiza este torneo. Estas son sus bases: \nDe Negra a Blanca. Bases.pdf
URL:https://farm.es/evento/de-negra-a-blanca-jaque-por-la-inclusion/
LOCATION:Centro Cultural Miguel Ángel Fernández Abenza\, c/ Doctor Marañón\, 7\, Blanca\, Murcia\, 30540\, Spain
CATEGORIES:Torneo
ATTACH;FMTTYPE=image/jpeg:https://farm.es/wp-content/uploads/2026/01/7515c214-6c23-4616-91f7-b728c73d4dac.jpg
END:VEVENT
BEGIN:VEVENT
DTSTART;TZID=Europe/Madrid:20260208T100000
DTEND;TZID=Europe/Madrid:20260208T140000
DTSTAMP:20260419T154715
CREATED:20260115T113958Z
LAST-MODIFIED:20260203T060336Z
UID:3700-1770544800-1770559200@farm.es
SUMMARY:II Torneo Ajedrez Beniel “LA CANDELARIA”
DESCRIPTION:El Domingo 8 de Febrero\, por la mañana nuestros compañeros del club de ajedrez San Juan de Beniel nos proponen este torneo de 7 rondas a ritmo de 10 +2. \nos dejamos las bases completas: \nhttps://farm.es/wp-content/uploads/2026/01/Bases-II-torneo-de-Ajedrez-La-Candelaria.pdf
URL:https://farm.es/evento/ii-torneo-ajedrez-beniel-la-candelaria/
LOCATION:Centro Social Beniel\, Plaza Ramon y Cajal 5\, Beniel\, Murcia\, 30130\, Spain
CATEGORIES:Torneo
ATTACH;FMTTYPE=image/jpeg:https://farm.es/wp-content/uploads/2026/01/Cartel-fiestas-de-la-Candelaria-Beniel.jpeg
ORGANIZER;CN="C.A. San Juan Beniel":MAILTO:encrucijadadosreinos@gmail.com
END:VEVENT
END:VCALENDAR