BEGIN:VCALENDAR
VERSION:2.0
PRODID:-//Federación de Ajedrez de la Región de Murcia - ECPv6.15.20//NONSGML v1.0//EN
CALSCALE:GREGORIAN
METHOD:PUBLISH
X-ORIGINAL-URL:https://farm.es
X-WR-CALDESC:Eventos para Federación de Ajedrez de la Región de Murcia
REFRESH-INTERVAL;VALUE=DURATION:PT1H
X-Robots-Tag:noindex
X-PUBLISHED-TTL:PT1H
BEGIN:VTIMEZONE
TZID:Europe/Madrid
BEGIN:DAYLIGHT
TZOFFSETFROM:+0100
TZOFFSETTO:+0200
TZNAME:CEST
DTSTART:20250330T010000
END:DAYLIGHT
BEGIN:STANDARD
TZOFFSETFROM:+0200
TZOFFSETTO:+0100
TZNAME:CET
DTSTART:20251026T010000
END:STANDARD
BEGIN:DAYLIGHT
TZOFFSETFROM:+0100
TZOFFSETTO:+0200
TZNAME:CEST
DTSTART:20260329T010000
END:DAYLIGHT
BEGIN:STANDARD
TZOFFSETFROM:+0200
TZOFFSETTO:+0100
TZNAME:CET
DTSTART:20261025T010000
END:STANDARD
BEGIN:DAYLIGHT
TZOFFSETFROM:+0100
TZOFFSETTO:+0200
TZNAME:CEST
DTSTART:20270328T010000
END:DAYLIGHT
BEGIN:STANDARD
TZOFFSETFROM:+0200
TZOFFSETTO:+0100
TZNAME:CET
DTSTART:20271031T010000
END:STANDARD
END:VTIMEZONE
BEGIN:VEVENT
DTSTART;TZID=Europe/Madrid:20260117T100000
DTEND;TZID=Europe/Madrid:20260207T200000
DTSTAMP:20260419T171522
CREATED:20260104T082013Z
LAST-MODIFIED:20260209T155922Z
UID:3646-1768644000-1770494400@farm.es
SUMMARY:CAMPEONATO REGIONAL INDIVIDUAL ABSOLUTO Y FEMENINO MURCIA 2026
DESCRIPTION:Bases del Campeonato: https://farm.es/wp-content/uploads/2026/01/Bases-Indiv_Absoluto_2026_.pdf \nPágina del evento e inscripciones en: https://farm.es/campeonato-regional-individual-absoluto-y-femenino-2026/ \nCrónica y Clasificación del Campeonato  https://farm.es/rebeca-jimenez-campeona-absoluta-de-murcia/
URL:https://farm.es/evento/campeonato-regional-individual-absoluto-y-femenino-murcia-2026/
LOCATION:Restaurante Rincón Huertano\, Calle de los Lorcas\, 16\, Beniaján\, Murcia\, 30570\, Spain
CATEGORIES:Campeonato
ATTACH;FMTTYPE=image/jpeg:https://farm.es/wp-content/uploads/2026/01/CartelAbsoluto_.jpg
END:VEVENT
END:VCALENDAR