BEGIN:VCALENDAR
VERSION:2.0
PRODID:-//Federación de Ajedrez de la Región de Murcia - ECPv6.15.20//NONSGML v1.0//EN
CALSCALE:GREGORIAN
METHOD:PUBLISH
X-ORIGINAL-URL:https://farm.es
X-WR-CALDESC:Eventos para Federación de Ajedrez de la Región de Murcia
REFRESH-INTERVAL;VALUE=DURATION:PT1H
X-Robots-Tag:noindex
X-PUBLISHED-TTL:PT1H
BEGIN:VTIMEZONE
TZID:Europe/Madrid
BEGIN:DAYLIGHT
TZOFFSETFROM:+0100
TZOFFSETTO:+0200
TZNAME:CEST
DTSTART:20250330T010000
END:DAYLIGHT
BEGIN:STANDARD
TZOFFSETFROM:+0200
TZOFFSETTO:+0100
TZNAME:CET
DTSTART:20251026T010000
END:STANDARD
BEGIN:DAYLIGHT
TZOFFSETFROM:+0100
TZOFFSETTO:+0200
TZNAME:CEST
DTSTART:20260329T010000
END:DAYLIGHT
BEGIN:STANDARD
TZOFFSETFROM:+0200
TZOFFSETTO:+0100
TZNAME:CET
DTSTART:20261025T010000
END:STANDARD
BEGIN:DAYLIGHT
TZOFFSETFROM:+0100
TZOFFSETTO:+0200
TZNAME:CEST
DTSTART:20270328T010000
END:DAYLIGHT
BEGIN:STANDARD
TZOFFSETFROM:+0200
TZOFFSETTO:+0100
TZNAME:CET
DTSTART:20271031T010000
END:STANDARD
END:VTIMEZONE
BEGIN:VEVENT
DTSTART;TZID=Europe/Madrid:20260110T100000
DTEND;TZID=Europe/Madrid:20260111T143000
DTSTAMP:20260419T155207
CREATED:20260104T054453Z
LAST-MODIFIED:20260104T083025Z
UID:3287-1768039200-1768141800@farm.es
SUMMARY:III TORNEO DE AJEDREZ AÑO NUEVO SUB 1800 AJEDRIZATE
DESCRIPTION:Nuestros compañeros de Ajedrizate y el CDA Lapuerta\, vuelven en enero con la tercera edición de su torneo de año nuevo para jugadores sub 1800. \nPodéis ver las bases completas en el siguiente enlace. \nhttps://farm.es/wp-content/uploads/2025/12/III-TORNEO-DE-AJEDREZ-ANO-NUEVO-SUB-1800-AJEDRIZATE.docx \n 
URL:https://farm.es/evento/iii-torneo-de-ajedrez-ano-nuevo-sub-1800-ajedrizate/
LOCATION:Casa de la Juventud Cartagena\, Paseo Alfonso XIII\, Cartagena\, Murcia\, 30203\, Spain
CATEGORIES:Torneo
ATTACH;FMTTYPE=image/jpeg:https://farm.es/wp-content/uploads/2025/12/WhatsApp-Image-2025-11-18-at-04.30.56.jpeg
END:VEVENT
END:VCALENDAR