BEGIN:VCALENDAR
VERSION:2.0
PRODID:-//Federación de Ajedrez de la Región de Murcia - ECPv6.15.20//NONSGML v1.0//EN
CALSCALE:GREGORIAN
METHOD:PUBLISH
X-ORIGINAL-URL:https://farm.es
X-WR-CALDESC:Eventos para Federación de Ajedrez de la Región de Murcia
REFRESH-INTERVAL;VALUE=DURATION:PT1H
X-Robots-Tag:noindex
X-PUBLISHED-TTL:PT1H
BEGIN:VTIMEZONE
TZID:Europe/Madrid
BEGIN:DAYLIGHT
TZOFFSETFROM:+0100
TZOFFSETTO:+0200
TZNAME:CEST
DTSTART:20250330T010000
END:DAYLIGHT
BEGIN:STANDARD
TZOFFSETFROM:+0200
TZOFFSETTO:+0100
TZNAME:CET
DTSTART:20251026T010000
END:STANDARD
BEGIN:DAYLIGHT
TZOFFSETFROM:+0100
TZOFFSETTO:+0200
TZNAME:CEST
DTSTART:20260329T010000
END:DAYLIGHT
BEGIN:STANDARD
TZOFFSETFROM:+0200
TZOFFSETTO:+0100
TZNAME:CET
DTSTART:20261025T010000
END:STANDARD
BEGIN:DAYLIGHT
TZOFFSETFROM:+0100
TZOFFSETTO:+0200
TZNAME:CEST
DTSTART:20270328T010000
END:DAYLIGHT
BEGIN:STANDARD
TZOFFSETFROM:+0200
TZOFFSETTO:+0100
TZNAME:CET
DTSTART:20271031T010000
END:STANDARD
END:VTIMEZONE
BEGIN:VEVENT
DTSTART;VALUE=DATE:20260103
DTEND;VALUE=DATE:20260104
DTSTAMP:20260419T160826
CREATED:20251221T174618Z
LAST-MODIFIED:20251225T100518Z
UID:3371-1767398400-1767484799@farm.es
SUMMARY:TORNEO DE AJEDREZ REYES 2026
DESCRIPTION:Los compañeros del Club Ajedrez Santomera\, nos proponen en la mañana del día 3 este torneo de reyes para sub 12 y por la tarde el torneo absoluto así que torneo de reyes para todas las edades.
URL:https://farm.es/evento/torneo-de-ajedrez-reyes-2026/
LOCATION:Patio de la casa del huerto\, Calle de los Huertanos 1\, Santomera\, Murcia\, 30140\, Spain
CATEGORIES:Torneo
ATTACH;FMTTYPE=image/jpeg:https://farm.es/wp-content/uploads/2025/12/WhatsApp-Image-2025-12-21-at-17.26.01.jpeg
END:VEVENT
END:VCALENDAR